BEGIN:VCALENDAR
VERSION:2.0
PRODID:-//104.152.168.27//NONSGML kigkonsult.se iCalcreator 2.20//
CALSCALE:GREGORIAN
METHOD:PUBLISH
X-WR-TIMEZONE:Asia/Tokyo
BEGIN:VEVENT
UID:event25449@Tokyo Gig Guide
DTSTAMP:20260421T150220Z
CATEGORIES:Abstract\, Free Jazz\, Improvised\, Instrumental\, Jazz
DESCRIPTION:Naoki Kita (violin)\, Kyoko Kuroda (piano)\nCategory: Abstract\
 , Free Jazz\, Improvised\, Instrumental\, Jazz\nLink: https://www.tokyogig
 guide.com/index.php?option=com_jem&view=event&id=25449:violin-naoki-kita-p
 iano-kyoko-kuroda&Itemid=1094\n
DTSTART:20210806T173000
DTEND:20210806T173000
LOCATION:Sweet Rain\,Okada Bldg. B1\, 5-46-5　Nakano\, Nakano-ku\, Tokyo\,Na
 kano
SUMMARY:Naoki Kita (violin)\, Kyoko Kuroda (piano)
URL:https://www.tokyogigguide.com/index.php?option=com_jem&view=event&id=25
 449:violin-naoki-kita-piano-kyoko-kuroda&Itemid=1094
END:VEVENT
END:VCALENDAR
