BEGIN:VCALENDAR
VERSION:2.0
PRODID:-//104.152.168.27//NONSGML kigkonsult.se iCalcreator 2.20//
CALSCALE:GREGORIAN
METHOD:PUBLISH
X-WR-TIMEZONE:Asia/Tokyo
BEGIN:VEVENT
UID:event25065@Tokyo Gig Guide
DTSTAMP:20260423T160847Z
CATEGORIES:Shoegaze\, Ambient\, Math-Rock\, Post-Rock\, Progressive
DESCRIPTION:Tibetan Sky\, Synker\, Ikebana\, Kirye\, Noman\nCategory: Shoeg
 aze\, Ambient\, Math-Rock\, Post-Rock\, Progressive\nLink: https://www.tok
 yogigguide.com/index.php?option=com_jem&view=event&id=25065:tibetan-sky-sy
 nker-ikebana-kirye-noman&Itemid=1094\n
DTSTART:20200921T110000
DTEND:20200921T110000
LOCATION:Liveholic\,5F\, 2-6-5 Kitazawa\, Setagayaku\, Tokyo\,Shimokitazawa
SUMMARY:Tibetan Sky\, Synker\, Ikebana\, Kirye\, Noman
URL:https://www.tokyogigguide.com/index.php?option=com_jem&view=event&id=25
 065:tibetan-sky-synker-ikebana-kirye-noman&Itemid=1094
END:VEVENT
END:VCALENDAR
