BEGIN:VCALENDAR
VERSION:2.0
PRODID:-//104.152.168.27//NONSGML kigkonsult.se iCalcreator 2.20//
CALSCALE:GREGORIAN
METHOD:PUBLISH
X-WR-TIMEZONE:Asia/Tokyo
BEGIN:VEVENT
UID:event24881@Tokyo Gig Guide
DTSTAMP:20260420T085024Z
CATEGORIES:Festival\, Jazz
DESCRIPTION:LOVE SUPREME JAZZ FESTIVAL: Robert Glasper\, Musiq Souldchild\,
  Ovall\, Answer to Remember\, more\nCategory: Festival\, Jazz\nLink: https
 ://www.tokyogigguide.com/index.php?option=com_jem&view=event&id=24881:love
 -supreme-jazz-festival-robert-glasper-musiq-souldchild-ovall-answer-to-rem
 ember-more&Itemid=1094\n
DTSTART:20200510T130000
DTEND:20200510T130000
LOCATION:PIT\,Toyosu 6-1-23\, Koto-ku\, Tokyo\,Toyosu
SUMMARY:LOVE SUPREME JAZZ FESTIVAL: Robert Glasper\, Musiq Souldchild\, Ova
 ll\, Answer to Remember\, more
URL:https://www.tokyogigguide.com/index.php?option=com_jem&view=event&id=24
 881:love-supreme-jazz-festival-robert-glasper-musiq-souldchild-ovall-answe
 r-to-remember-more&Itemid=1094
END:VEVENT
END:VCALENDAR
