BEGIN:VCALENDAR
VERSION:2.0
PRODID:-//104.152.168.27//NONSGML kigkonsult.se iCalcreator 2.20//
CALSCALE:GREGORIAN
METHOD:PUBLISH
X-WR-TIMEZONE:Asia/Tokyo
BEGIN:VEVENT
UID:event24662@Tokyo Gig Guide
DTSTAMP:20260424T183517Z
CATEGORIES:Acoustic\, Avant garde\, Instrumental\, Progressive
DESCRIPTION:ERA (Akihisa Tsuboi\, Natsuki Kido)\nCategory: Acoustic\, Avant
  garde\, Instrumental\, Progressive\nLink: https://www.tokyogigguide.com/i
 ndex.php?option=com_jem&view=event&id=24662:era-akihisa-tsuboi-natsuki-kid
 o&Itemid=1094\n
DTSTART:20200228T193000
DTEND:20200228T193000
LOCATION:plus eleven\,1-2-15\, Nakacho\, Ageo-shi\, Saitama\,Ageo
SUMMARY:ERA (Akihisa Tsuboi\, Natsuki Kido)
URL:https://www.tokyogigguide.com/index.php?option=com_jem&view=event&id=24
 662:era-akihisa-tsuboi-natsuki-kido&Itemid=1094
END:VEVENT
END:VCALENDAR
