BEGIN:VCALENDAR
VERSION:2.0
PRODID:-//104.152.168.27//NONSGML kigkonsult.se iCalcreator 2.20//
CALSCALE:GREGORIAN
METHOD:PUBLISH
X-WR-TIMEZONE:Asia/Tokyo
BEGIN:VEVENT
UID:event24626@Tokyo Gig Guide
DTSTAMP:20260425T200340Z
CATEGORIES:Psychedelic\, Psych-Folk
DESCRIPTION:KAWAGUCHI MASAMI'S NEW ROCK SYNDICATE\, Tajima Akitoshi\nCatego
 ry: Psychedelic\, Psych-Folk\nLink: https://www.tokyogigguide.com/index.ph
 p?option=com_jem&view=event&id=24626:kawaguchi-masami-s-new-rock-syndicate
 -tajima-akitoshi&Itemid=1094\n
DTSTART:20200203T190000
DTEND:20200203T190000
LOCATION:harness\,2-18-9-B1\, Asagayaminami\, Suginami\, Tokyo\,Asagaya
SUMMARY:KAWAGUCHI MASAMI'S NEW ROCK SYNDICATE\, Tajima Akitoshi
URL:https://www.tokyogigguide.com/index.php?option=com_jem&view=event&id=24
 626:kawaguchi-masami-s-new-rock-syndicate-tajima-akitoshi&Itemid=1094
END:VEVENT
END:VCALENDAR
