BEGIN:VCALENDAR
VERSION:2.0
PRODID:-//104.152.168.27//NONSGML kigkonsult.se iCalcreator 2.20//
CALSCALE:GREGORIAN
METHOD:PUBLISH
X-WR-TIMEZONE:Asia/Tokyo
BEGIN:VEVENT
UID:event24454@Tokyo Gig Guide
DTSTAMP:20260424T235614Z
CATEGORIES:Death Metal\, Downtempo\, Grindcore\, Hardcore\, Metal
DESCRIPTION:DEFILED\, VALLEY OF THE HEADLESS (Korea)\, GOREVENT\, PERSEVERA
 NCE\, ZOMBIE RITUAL\, MARUBULLMEN\, DISTEMPER\nCategory: Death Metal\, Dow
 ntempo\, Grindcore\, Hardcore\, Metal\nLink: https://www.tokyogigguide.com
 /index.php?option=com_jem&view=event&id=24454:defiled-valley-of-the-headle
 ss-korea-gorevent-perseverance-zombie-ritual-marubullmen-distemper&Itemid=
 1094\n
DTSTART:20200209T170000
DTEND:20200209T170000
LOCATION:El Puente\,B1 8-8 Nishihiranumacho\, Nishi-ku\, Yokohama\,Yokohama
SUMMARY:DEFILED\, VALLEY OF THE HEADLESS (Korea)\, GOREVENT\, PERSEVERANCE\
 , ZOMBIE RITUAL\, MARUBULLMEN\, DISTEMPER
URL:https://www.tokyogigguide.com/index.php?option=com_jem&view=event&id=24
 454:defiled-valley-of-the-headless-korea-gorevent-perseverance-zombie-ritu
 al-marubullmen-distemper&Itemid=1094
END:VEVENT
END:VCALENDAR
