BEGIN:VCALENDAR
VERSION:2.0
PRODID:-//104.152.168.27//NONSGML kigkonsult.se iCalcreator 2.20//
CALSCALE:GREGORIAN
METHOD:PUBLISH
X-WR-TIMEZONE:Asia/Tokyo
BEGIN:VEVENT
UID:event24401@Tokyo Gig Guide
DTSTAMP:20260422T203037Z
CATEGORIES:Acoustic\, Instrumental\, Jazz
DESCRIPTION:Eri Uenoyama\, Natsuki Kido\, Jiro Okada\, Youichiro Yamauchi\n
 Category: Acoustic\, Instrumental\, Jazz\nLink: https://www.tokyogigguide.
 com/index.php?option=com_jem&view=event&id=24401:eri-uenoyama-natsuki-kido
 -jiro-okada-youichiro-yamauchi&Itemid=1094\n
DTSTART:20200209T143000
DTEND:20200209T143000
LOCATION:plus eleven\,1-2-15\, Nakacho\, Ageo-shi\, Saitama\,Ageo
SUMMARY:Eri Uenoyama\, Natsuki Kido\, Jiro Okada\, Youichiro Yamauchi
URL:https://www.tokyogigguide.com/index.php?option=com_jem&view=event&id=24
 401:eri-uenoyama-natsuki-kido-jiro-okada-youichiro-yamauchi&Itemid=1094
END:VEVENT
END:VCALENDAR
