BEGIN:VCALENDAR
VERSION:2.0
PRODID:-//104.152.168.27//NONSGML kigkonsult.se iCalcreator 2.20//
CALSCALE:GREGORIAN
METHOD:PUBLISH
X-WR-TIMEZONE:Asia/Tokyo
BEGIN:VEVENT
UID:event24372@Tokyo Gig Guide
DTSTAMP:20260423T180232Z
CATEGORIES:Instrumental\, Jazz
DESCRIPTION:Natsuki Kido\, Kaori Nakajima\nCategory: Instrumental\, Jazz\nL
 ink: https://www.tokyogigguide.com/index.php?option=com_jem&view=event&id=
 24372:natsuki-kido-kaori-nakajima&Itemid=1094\n
DTSTART:20200109T193000
DTEND:20200109T193000
LOCATION:plus eleven\,1-2-15\, Nakacho\, Ageo-shi\, Saitama\,Ageo
SUMMARY:Natsuki Kido\, Kaori Nakajima
URL:https://www.tokyogigguide.com/index.php?option=com_jem&view=event&id=24
 372:natsuki-kido-kaori-nakajima&Itemid=1094
END:VEVENT
END:VCALENDAR
