BEGIN:VCALENDAR
VERSION:2.0
PRODID:-//104.152.168.27//NONSGML kigkonsult.se iCalcreator 2.20//
CALSCALE:GREGORIAN
METHOD:PUBLISH
X-WR-TIMEZONE:Asia/Tokyo
BEGIN:VEVENT
UID:event24317@Tokyo Gig Guide
DTSTAMP:20260424T204320Z
CATEGORIES:Pop
DESCRIPTION:茶封筒\, ゼーゼーハーハー\, パンのみみ\, sickufo\nCategory: Pop\nLink: https://
 www.tokyogigguide.com/index.php?option=com_jem&view=event&id=24317:sickufo
 &Itemid=1094\n
DTSTART:20191227T183000
DTEND:20191227T183000
LOCATION:Liveholic\,5F\, 2-6-5 Kitazawa\, Setagayaku\, Tokyo\,Shimokitazawa
SUMMARY:茶封筒\, ゼーゼーハーハー\, パンのみみ\, sickufo
URL:https://www.tokyogigguide.com/index.php?option=com_jem&view=event&id=24
 317:sickufo&Itemid=1094
END:VEVENT
END:VCALENDAR
