BEGIN:VCALENDAR
VERSION:2.0
PRODID:-//104.152.168.27//NONSGML kigkonsult.se iCalcreator 2.20//
CALSCALE:GREGORIAN
METHOD:PUBLISH
X-WR-TIMEZONE:Asia/Tokyo
BEGIN:VEVENT
UID:event24186@Tokyo Gig Guide
DTSTAMP:20260421T083911Z
CATEGORIES:Acoustic\, Instrumental\, Jazz
DESCRIPTION:tetsuji yoshida\, yoko kobayashi\nCategory: Acoustic\, Instrume
 ntal\, Jazz\nLink: https://www.tokyogigguide.com/index.php?option=com_jem&
 view=event&id=24186:tetsuji-yoshida-yoko-kobayashi&Itemid=1094\n
DTSTART:20191213T193000
DTEND:20191213T193000
LOCATION:Thelonious\,5-9-1\, Higashi Nakano\, Nakano-ku\,Higashi-Nakano
SUMMARY:tetsuji yoshida\, yoko kobayashi
URL:https://www.tokyogigguide.com/index.php?option=com_jem&view=event&id=24
 186:tetsuji-yoshida-yoko-kobayashi&Itemid=1094
END:VEVENT
END:VCALENDAR
