BEGIN:VCALENDAR
VERSION:2.0
PRODID:-//104.152.168.27//NONSGML kigkonsult.se iCalcreator 2.20//
CALSCALE:GREGORIAN
METHOD:PUBLISH
X-WR-TIMEZONE:Asia/Tokyo
BEGIN:VEVENT
UID:event2411@Tokyo Gig Guide
DTSTAMP:20260422T004126Z
CATEGORIES:Alternative
DESCRIPTION:unkie\, NACANO\nCategory: Alternative\nLink: https://www.tokyog
 igguide.com/index.php?option=com_jem&view=event&id=2411:unkie-nacano&Itemi
 d=1094\n
DTSTART:20100303T183000
DTEND:20100303T183000
LOCATION:Zher The Zoo\,Yoyogi Park Bldg B1F\, Yoyogi 1-30-1\,Yoyogi
SUMMARY:unkie\, NACANO
URL:https://www.tokyogigguide.com/index.php?option=com_jem&view=event&id=24
 11:unkie-nacano&Itemid=1094
END:VEVENT
END:VCALENDAR
