BEGIN:VCALENDAR
VERSION:2.0
PRODID:-//104.152.168.27//NONSGML kigkonsult.se iCalcreator 2.20//
CALSCALE:GREGORIAN
METHOD:PUBLISH
X-WR-TIMEZONE:Asia/Tokyo
BEGIN:VEVENT
UID:event24081@Tokyo Gig Guide
DTSTAMP:20260419T183024Z
CATEGORIES:Jazz
DESCRIPTION: Sumire Kuribayasi Trio:  Sumire Kuribayashi (P)\, Giuseppe Bas
 si (B)\, Giovanni Scasciamacchia (ds) (From Italy)\nCategory: Jazz\nLink: 
 https://www.tokyogigguide.com/index.php?option=com_jem&view=event&id=24081
 :kuribayashi-sumire-trio-kuribayashi-sumir-p-giuseppe-bassi-b-giovanni-sca
 sciamacchia-ds-from-italy&Itemid=1094\n
DTSTART:20191126T190000
DTEND:20191126T190000
LOCATION:Sweet Rain\,Okada Bldg. B1\, 5-46-5　Nakano\, Nakano-ku\, Tokyo\,Na
 kano
SUMMARY: Sumire Kuribayasi Trio:  Sumire Kuribayashi (P)\, Giuseppe Bassi (
 B)\, Giovanni Scasciamacchia (ds) (From Italy)
URL:https://www.tokyogigguide.com/index.php?option=com_jem&view=event&id=24
 081:kuribayashi-sumire-trio-kuribayashi-sumir-p-giuseppe-bassi-b-giovanni-
 scasciamacchia-ds-from-italy&Itemid=1094
END:VEVENT
END:VCALENDAR
