BEGIN:VCALENDAR
VERSION:2.0
PRODID:-//104.152.168.27//NONSGML kigkonsult.se iCalcreator 2.20//
CALSCALE:GREGORIAN
METHOD:PUBLISH
X-WR-TIMEZONE:Asia/Tokyo
BEGIN:VEVENT
UID:event24035@Tokyo Gig Guide
DTSTAMP:20260420T001639Z
CATEGORIES:Alternative\, Avant garde\, Emo\, Experimental\, Progressive
DESCRIPTION:Atsushi Tsuyama + Korekyojinn (Natsuki Kido\, Mitsuru Nasuno\, 
 Tatsuya Yoshida)\nCategory: Alternative\, Avant garde\, Emo\, Experimental
 \, Progressive\nLink: https://www.tokyogigguide.com/index.php?option=com_j
 em&view=event&id=24035:atsushi-tsuyama-korekyojinn&Itemid=1094\n
DTSTART:20200105T183000
DTEND:20200105T183000
LOCATION:Silver Elephant\,2-10-6 B1\, Kichijoji Honmachi\,Kichijoji
SUMMARY:Atsushi Tsuyama + Korekyojinn (Natsuki Kido\, Mitsuru Nasuno\, Tats
 uya Yoshida)
URL:https://www.tokyogigguide.com/index.php?option=com_jem&view=event&id=24
 035:atsushi-tsuyama-korekyojinn&Itemid=1094
END:VEVENT
END:VCALENDAR
