BEGIN:VCALENDAR
VERSION:2.0
PRODID:-//104.152.168.27//NONSGML kigkonsult.se iCalcreator 2.20//
CALSCALE:GREGORIAN
METHOD:PUBLISH
X-WR-TIMEZONE:Asia/Tokyo
BEGIN:VEVENT
UID:event2399@Tokyo Gig Guide
DTSTAMP:20260421T060224Z
CATEGORIES:WTF?
DESCRIPTION:Bad Noise! Feat. ni-hao!\, Prague\, Pinky Piglets\nCategory: WT
 F?\nLink: https://www.tokyogigguide.com/index.php?option=com_jem&view=even
 t&id=2399:bad-noise-feat-prague-pinky-piglets-a-more&Itemid=1094\n
DTSTART:20100424T193000
DTEND:20100424T193000
LOCATION:Ruby Room\,2F Kasumi Bldg\, Dogenzaka 2-25-17\, Shibuya\,Shibuya
SUMMARY:Bad Noise! Feat. ni-hao!\, Prague\, Pinky Piglets
URL:https://www.tokyogigguide.com/index.php?option=com_jem&view=event&id=23
 99:bad-noise-feat-prague-pinky-piglets-a-more&Itemid=1094
END:VEVENT
END:VCALENDAR
