BEGIN:VCALENDAR
VERSION:2.0
PRODID:-//104.152.168.27//NONSGML kigkonsult.se iCalcreator 2.20//
CALSCALE:GREGORIAN
METHOD:PUBLISH
X-WR-TIMEZONE:Asia/Tokyo
BEGIN:VEVENT
UID:event2398@Tokyo Gig Guide
DTSTAMP:20260422T184003Z
CATEGORIES:WTF?
DESCRIPTION:Bad Noise! Feat. Bespa Kumamero\, Royal Cabaret\, Sawa\nCategor
 y: WTF?\nLink: https://www.tokyogigguide.com/index.php?option=com_jem&view
 =event&id=2398:bad-noise-feat-bespa-kumamero-royal-cabaret-sawa&Itemid=109
 4\n
DTSTART:20100327T193000
DTEND:20100327T193000
LOCATION:Ruby Room\,2F Kasumi Bldg\, Dogenzaka 2-25-17\, Shibuya\,Shibuya
SUMMARY:Bad Noise! Feat. Bespa Kumamero\, Royal Cabaret\, Sawa
URL:https://www.tokyogigguide.com/index.php?option=com_jem&view=event&id=23
 98:bad-noise-feat-bespa-kumamero-royal-cabaret-sawa&Itemid=1094
END:VEVENT
END:VCALENDAR
