BEGIN:VCALENDAR
VERSION:2.0
PRODID:-//104.152.168.27//NONSGML kigkonsult.se iCalcreator 2.20//
CALSCALE:GREGORIAN
METHOD:PUBLISH
X-WR-TIMEZONE:Asia/Tokyo
BEGIN:VEVENT
UID:event2397@Tokyo Gig Guide
DTSTAMP:20260422T231517Z
CATEGORIES:WTF?
DESCRIPTION:Bad Noise! Feat. Molice\, Pinky Doodle Poodle\, Jonny\nCategory
 : WTF?\nLink: https://www.tokyogigguide.com/index.php?option=com_jem&view=
 event&id=2397:bad-noise-feat-molice-pinky-doodle-poodle-jonny&Itemid=1094
 \n
DTSTART:20100227T193000
DTEND:20100227T193000
LOCATION:Ruby Room\,2F Kasumi Bldg\, Dogenzaka 2-25-17\, Shibuya\,Shibuya
SUMMARY:Bad Noise! Feat. Molice\, Pinky Doodle Poodle\, Jonny
URL:https://www.tokyogigguide.com/index.php?option=com_jem&view=event&id=23
 97:bad-noise-feat-molice-pinky-doodle-poodle-jonny&Itemid=1094
END:VEVENT
END:VCALENDAR
