BEGIN:VCALENDAR
VERSION:2.0
PRODID:-//104.152.168.27//NONSGML kigkonsult.se iCalcreator 2.20//
CALSCALE:GREGORIAN
METHOD:PUBLISH
X-WR-TIMEZONE:Asia/Tokyo
BEGIN:VEVENT
UID:event23850@Tokyo Gig Guide
DTSTAMP:20260420T183858Z
CATEGORIES:Alternative\, Folk\, Rock
DESCRIPTION:Mumford & Sons\nCategory: Alternative\, Folk\, Rock\nLink: http
 s://www.tokyogigguide.com/index.php?option=com_jem&view=event&id=23850:mum
 ford-sons&Itemid=1094\n
DTSTART:20191113T183000
DTEND:20191113T183000
LOCATION:PIT\,Toyosu 6-1-23\, Koto-ku\, Tokyo\,Toyosu
SUMMARY:Mumford & Sons
URL:https://www.tokyogigguide.com/index.php?option=com_jem&view=event&id=23
 850:mumford-sons&Itemid=1094
END:VEVENT
END:VCALENDAR
