BEGIN:VCALENDAR
VERSION:2.0
PRODID:-//104.152.168.27//NONSGML kigkonsult.se iCalcreator 2.20//
CALSCALE:GREGORIAN
METHOD:PUBLISH
X-WR-TIMEZONE:Asia/Tokyo
BEGIN:VEVENT
UID:event23846@Tokyo Gig Guide
DTSTAMP:20260423T033146Z
CATEGORIES:Instrumental\, Progressive
DESCRIPTION:ERA Special (Akihisa Tsuboi\, Natsuki Kido\, Hiroyuki Nanba\, K
 enji Sato\, Youichi Okabe)\nCategory: Instrumental\, Progressive\nLink: ht
 tps://www.tokyogigguide.com/index.php?option=com_jem&view=event&id=23846:e
 ra-special-akihisa-tsuboi-natsuki-kido-hiroyuki-nanba-kenji-sato-youichi-o
 kabe&Itemid=1094\n
DTSTART:20191228T180000
DTEND:20191228T180000
LOCATION:Silver Elephant\,2-10-6 B1\, Kichijoji Honmachi\,Kichijoji
SUMMARY:ERA Special (Akihisa Tsuboi\, Natsuki Kido\, Hiroyuki Nanba\, Kenji
  Sato\, Youichi Okabe)
URL:https://www.tokyogigguide.com/index.php?option=com_jem&view=event&id=23
 846:era-special-akihisa-tsuboi-natsuki-kido-hiroyuki-nanba-kenji-sato-youi
 chi-okabe&Itemid=1094
END:VEVENT
END:VCALENDAR
