BEGIN:VCALENDAR
VERSION:2.0
PRODID:-//104.152.168.27//NONSGML kigkonsult.se iCalcreator 2.20//
CALSCALE:GREGORIAN
METHOD:PUBLISH
X-WR-TIMEZONE:Asia/Tokyo
BEGIN:VEVENT
UID:event23836@Tokyo Gig Guide
DTSTAMP:20260423T042357Z
CATEGORIES:Progressive\, Psychedelic\, Psych-Folk\, World
DESCRIPTION:NEW YEAR CONCERT 2020: Ayuo\, TOMO\, Masaaki Aoyama\nCategory: 
 Progressive\, Psychedelic\, Psych-Folk\, World\nLink: https://www.tokyogig
 guide.com/index.php?option=com_jem&view=event&id=23836:ayuo-tomo-masaaki-a
 oyama-new-year-concert-2020&Itemid=1094\n
DTSTART:20200111T190000
DTEND:20200111T190000
LOCATION:Casa Mozart\,3rd Floor\, 1-10-23 Jingumae Shibuya-ku\, Tokyo\,Hara
 juku
SUMMARY:NEW YEAR CONCERT 2020: Ayuo\, TOMO\, Masaaki Aoyama
URL:https://www.tokyogigguide.com/index.php?option=com_jem&view=event&id=23
 836:ayuo-tomo-masaaki-aoyama-new-year-concert-2020&Itemid=1094
END:VEVENT
END:VCALENDAR
