BEGIN:VCALENDAR
VERSION:2.0
PRODID:-//104.152.168.27//NONSGML kigkonsult.se iCalcreator 2.20//
CALSCALE:GREGORIAN
METHOD:PUBLISH
X-WR-TIMEZONE:Asia/Tokyo
BEGIN:VEVENT
UID:event2353@Tokyo Gig Guide
DTSTAMP:20260426T023806Z
CATEGORIES:Rock
DESCRIPTION:GREEN FLAMES\, NARITA (HIGH RISE)\, TABATA (ZENI GEVA)\,\nCateg
 ory: Rock\nLink: https://www.tokyogigguide.com/index.php?option=com_jem&vi
 ew=event&id=2353:green-flames-narita-high-rise-tabata-zeni-geva&Itemid=109
 4\n
DTSTART:20100308T190000
DTEND:20100308T190000
LOCATION:Showboat\,Oak Hill Koenji B1F\, 3-17-2 Koenji Kita\,Koenji
SUMMARY:GREEN FLAMES\, NARITA (HIGH RISE)\, TABATA (ZENI GEVA)\,
URL:https://www.tokyogigguide.com/index.php?option=com_jem&view=event&id=23
 53:green-flames-narita-high-rise-tabata-zeni-geva&Itemid=1094
END:VEVENT
END:VCALENDAR
