BEGIN:VCALENDAR
VERSION:2.0
PRODID:-//104.152.168.27//NONSGML kigkonsult.se iCalcreator 2.20//
CALSCALE:GREGORIAN
METHOD:PUBLISH
X-WR-TIMEZONE:Asia/Tokyo
BEGIN:VEVENT
UID:event23383@Tokyo Gig Guide
DTSTAMP:20260419T235659Z
CATEGORIES:Electronic\, Electro-Pop\, New Wave\, Post-Punk\, Synth-pop
DESCRIPTION:NEW ORDER\nCategory: Electronic\, Electro-Pop\, New Wave\, Post
 -Punk\, Synth-pop\nLink: https://www.tokyogigguide.com/index.php?option=co
 m_jem&view=event&id=23383:new-order&Itemid=1094\n
DTSTART:20200303T183000
DTEND:20200303T183000
LOCATION:Studio Coast\,2-2-10 Shin-Kiba\, Koto-ku\,Shin-Kiba
SUMMARY:NEW ORDER
URL:https://www.tokyogigguide.com/index.php?option=com_jem&view=event&id=23
 383:new-order&Itemid=1094
END:VEVENT
END:VCALENDAR
