BEGIN:VCALENDAR
VERSION:2.0
PRODID:-//104.152.168.27//NONSGML kigkonsult.se iCalcreator 2.20//
CALSCALE:GREGORIAN
METHOD:PUBLISH
X-WR-TIMEZONE:Asia/Tokyo
BEGIN:VEVENT
UID:event2335@Tokyo Gig Guide
DTSTAMP:20260419T212148Z
CATEGORIES:Experimental
DESCRIPTION:Marcos Fernandes\, Yuki Saga\nCategory: Experimental\nLink: htt
 ps://www.tokyogigguide.com/index.php?option=com_jem&view=event&id=2335:mar
 cos-fernandes-yuki-saga&Itemid=1094\n
DTSTART:20100212T200000
DTEND:20100212T200000
LOCATION:Airegin\,5-60 Sumiyoshi-cho\, Naka-ku\, Yokohama\, Kanagawa\,Yokoh
 ama
SUMMARY:Marcos Fernandes\, Yuki Saga
URL:https://www.tokyogigguide.com/index.php?option=com_jem&view=event&id=23
 35:marcos-fernandes-yuki-saga&Itemid=1094
END:VEVENT
END:VCALENDAR
