BEGIN:VCALENDAR
VERSION:2.0
PRODID:-//104.152.168.27//NONSGML kigkonsult.se iCalcreator 2.20//
CALSCALE:GREGORIAN
METHOD:PUBLISH
X-WR-TIMEZONE:Asia/Tokyo
BEGIN:VEVENT
UID:event23238@Tokyo Gig Guide
DTSTAMP:20260421T232604Z
CATEGORIES:Alternative\, Folk\, Indie-Rock\, World
DESCRIPTION:Tsurugaya\, Tekonogennri\nCategory: Alternative\, Folk\, Indie-
 Rock\, World\nLink: https://www.tokyogigguide.com/index.php?option=com_jem
 &view=event&id=23238:tsurugaya-tekonogennri&Itemid=1094\n
DTSTART:20190911T190000
DTEND:20190911T190000
LOCATION:Silver Elephant\,2-10-6 B1\, Kichijoji Honmachi\,Kichijoji
SUMMARY:Tsurugaya\, Tekonogennri
URL:https://www.tokyogigguide.com/index.php?option=com_jem&view=event&id=23
 238:tsurugaya-tekonogennri&Itemid=1094
END:VEVENT
END:VCALENDAR
