BEGIN:VCALENDAR
VERSION:2.0
PRODID:-//104.152.168.27//NONSGML kigkonsult.se iCalcreator 2.20//
CALSCALE:GREGORIAN
METHOD:PUBLISH
X-WR-TIMEZONE:Asia/Tokyo
BEGIN:VEVENT
UID:event23220@Tokyo Gig Guide
DTSTAMP:20260422T001204Z
CATEGORIES:Ambient\, Festival\, Metal\, Power Pop\, Progressive
DESCRIPTION:ProgTokyo 2019 Autumn Day 4: ALL IMAGES BLAZING (from Osaka)\, 
 Wojciech Ciuraj (from Poland)\, Seventh Son\nCategory: Ambient\, Festival\
 , Metal\, Power Pop\, Progressive\nLink: https://www.tokyogigguide.com/ind
 ex.php?option=com_jem&view=event&id=23220:progtokyo-2019-autumn-day-4-all-
 images-blazing-from-osaka-wojciech-ciuraj-from-poland-seventh-son&Itemid=1
 094\n
DTSTART:20191014T170000
DTEND:20191014T170000
LOCATION:Silver Elephant\,2-10-6 B1\, Kichijoji Honmachi\,Kichijoji
SUMMARY:ProgTokyo 2019 Autumn Day 4: ALL IMAGES BLAZING (from Osaka)\, Wojc
 iech Ciuraj (from Poland)\, Seventh Son
URL:https://www.tokyogigguide.com/index.php?option=com_jem&view=event&id=23
 220:progtokyo-2019-autumn-day-4-all-images-blazing-from-osaka-wojciech-ciu
 raj-from-poland-seventh-son&Itemid=1094
END:VEVENT
END:VCALENDAR
