BEGIN:VCALENDAR
VERSION:2.0
PRODID:-//104.152.168.27//NONSGML kigkonsult.se iCalcreator 2.20//
CALSCALE:GREGORIAN
METHOD:PUBLISH
X-WR-TIMEZONE:Asia/Tokyo
BEGIN:VEVENT
UID:event23219@Tokyo Gig Guide
DTSTAMP:20260419T185043Z
CATEGORIES:Alternative\, Avant-pop\, Festival\, Instrumental\, Progressive
DESCRIPTION:ProgTokyo 2019 Autumn Day 3: Allan Chan Band (Kari) (あらんちゃんバンド(
 仮))\, KADATH (from Yamaguchi)\, Chieroom Band (チエルームバンド)\nCategory: Altern
 ative\, Avant-pop\, Festival\, Instrumental\, Progressive\nLink: https://w
 ww.tokyogigguide.com/index.php?option=com_jem&view=event&id=23219:progtoky
 o-2019-autumn-day-3-allan-chan-band-kari-kadath-from-yamaguchi-chieroom-ba
 nd&Itemid=1094\n
DTSTART:20191013T170000
DTEND:20191013T170000
LOCATION:Silver Elephant\,2-10-6 B1\, Kichijoji Honmachi\,Kichijoji
SUMMARY:ProgTokyo 2019 Autumn Day 3: Allan Chan Band (Kari) (あらんちゃんバンド(仮))\
 , KADATH (from Yamaguchi)\, Chieroom Band (チエルームバンド)
URL:https://www.tokyogigguide.com/index.php?option=com_jem&view=event&id=23
 219:progtokyo-2019-autumn-day-3-allan-chan-band-kari-kadath-from-yamaguchi
 -chieroom-band&Itemid=1094
END:VEVENT
END:VCALENDAR
