BEGIN:VCALENDAR
VERSION:2.0
PRODID:-//104.152.168.27//NONSGML kigkonsult.se iCalcreator 2.20//
CALSCALE:GREGORIAN
METHOD:PUBLISH
X-WR-TIMEZONE:Asia/Tokyo
BEGIN:VEVENT
UID:event23218@Tokyo Gig Guide
DTSTAMP:20260419T170025Z
CATEGORIES:Alternative\, Avant-pop\, Festival\, Folk\, Progressive
DESCRIPTION:ProgTokyo 2019 Autumn Day 2: Akiko's Cosmo Space\, Tacita Intes
 a (from Italy)\, Margaret Maggie\nCategory: Alternative\, Avant-pop\, Fest
 ival\, Folk\, Progressive\nLink: https://www.tokyogigguide.com/index.php?o
 ption=com_jem&view=event&id=23218:progtokyo-2019-autumn-day-2-akiko-s-cosm
 o-space-tacita-intesa-from-italy-and-margaret-maggie&Itemid=1094\n
DTSTART:20191012T170000
DTEND:20191012T170000
LOCATION:Silver Elephant\,2-10-6 B1\, Kichijoji Honmachi\,Kichijoji
SUMMARY:ProgTokyo 2019 Autumn Day 2: Akiko's Cosmo Space\, Tacita Intesa (f
 rom Italy)\, Margaret Maggie
URL:https://www.tokyogigguide.com/index.php?option=com_jem&view=event&id=23
 218:progtokyo-2019-autumn-day-2-akiko-s-cosmo-space-tacita-intesa-from-ita
 ly-and-margaret-maggie&Itemid=1094
END:VEVENT
END:VCALENDAR
