BEGIN:VCALENDAR
VERSION:2.0
PRODID:-//104.152.168.27//NONSGML kigkonsult.se iCalcreator 2.20//
CALSCALE:GREGORIAN
METHOD:PUBLISH
X-WR-TIMEZONE:Asia/Tokyo
BEGIN:VEVENT
UID:event23127@Tokyo Gig Guide
DTSTAMP:20260421T001207Z
CATEGORIES:Acoustic\, Jazz
DESCRIPTION:吉田哲治\, 小林洋子\nCategory: Acoustic\, Jazz\nLink: https://www.tokyo
 gigguide.com/index.php?option=com_jem&view=event&id=23127:2019-08-11-02-44
 -04&Itemid=1094\n
DTSTART:20190830T193000
DTEND:20190830T193000
LOCATION:Thelonious\,5-9-1\, Higashi Nakano\, Nakano-ku\,Higashi-Nakano
SUMMARY:吉田哲治\, 小林洋子
URL:https://www.tokyogigguide.com/index.php?option=com_jem&view=event&id=23
 127:2019-08-11-02-44-04&Itemid=1094
END:VEVENT
END:VCALENDAR
