BEGIN:VCALENDAR
VERSION:2.0
PRODID:-//104.152.168.27//NONSGML kigkonsult.se iCalcreator 2.20//
CALSCALE:GREGORIAN
METHOD:PUBLISH
X-WR-TIMEZONE:Asia/Tokyo
BEGIN:VEVENT
UID:event23053@Tokyo Gig Guide
DTSTAMP:20260420T222554Z
CATEGORIES:Acoustic\, Dance\, Free Jazz\, Jazz
DESCRIPTION:Reona (tap)\, Eiichi Hayashi (alto sax)\, Kurumi SHIMIZU (pf) 
 \nCategory: Acoustic\, Dance\, Free Jazz\, Jazz\nLink: https://www.tokyogi
 gguide.com/index.php?option=com_jem&view=event&id=23053:reona-tap-eiichi-h
 ayashi-alto-sax-kurumi-shimizu-pf&Itemid=1094\n
DTSTART:20190825T173000
DTEND:20190825T173000
LOCATION:Sweet Rain\,Okada Bldg. B1\, 5-46-5　Nakano\, Nakano-ku\, Tokyo\,Na
 kano
SUMMARY:Reona (tap)\, Eiichi Hayashi (alto sax)\, Kurumi SHIMIZU (pf) 
URL:https://www.tokyogigguide.com/index.php?option=com_jem&view=event&id=23
 053:reona-tap-eiichi-hayashi-alto-sax-kurumi-shimizu-pf&Itemid=1094
END:VEVENT
END:VCALENDAR
