BEGIN:VCALENDAR
VERSION:2.0
PRODID:-//104.152.168.27//NONSGML kigkonsult.se iCalcreator 2.20//
CALSCALE:GREGORIAN
METHOD:PUBLISH
X-WR-TIMEZONE:Asia/Tokyo
BEGIN:VEVENT
UID:event22971@Tokyo Gig Guide
DTSTAMP:20260422T103000Z
CATEGORIES:DJ\, Electronic
DESCRIPTION:DJ Krush\, O.N.O (Tha Blue Herb)\, Rebel Familia\, raudica\, Fu
 nktion Crew\nCategory: DJ\, Electronic\nLink: https://www.tokyogigguide.co
 m/index.php?option=com_jem&view=event&id=22971:dj-krush-o-n-o-tha-blue-her
 b-rebel-familia-raudica-funktion-crew&Itemid=1094\n
DTSTART:20190809T220000
DTEND:20190809T220000
LOCATION:Contact\,B2F 2-10-12 DOGENZAKA\, SHIBUYA-KU\,Shibuya
SUMMARY:DJ Krush\, O.N.O (Tha Blue Herb)\, Rebel Familia\, raudica\, Funkti
 on Crew
URL:https://www.tokyogigguide.com/index.php?option=com_jem&view=event&id=22
 971:dj-krush-o-n-o-tha-blue-herb-rebel-familia-raudica-funktion-crew&Itemi
 d=1094
END:VEVENT
END:VCALENDAR
