BEGIN:VCALENDAR
VERSION:2.0
PRODID:-//104.152.168.27//NONSGML kigkonsult.se iCalcreator 2.20//
CALSCALE:GREGORIAN
METHOD:PUBLISH
X-WR-TIMEZONE:Asia/Tokyo
BEGIN:VEVENT
UID:event22967@Tokyo Gig Guide
DTSTAMP:20260423T044311Z
CATEGORIES:Electro\, Electronic\, House
DESCRIPTION:Todd Terje\nCategory: Electro\, Electronic\, House\nLink: https
 ://www.tokyogigguide.com/index.php?option=com_jem&view=event&id=22967:todd
 -terje&Itemid=1094\n
DTSTART:20190928T220000
DTEND:20190928T220000
LOCATION:Contact\,B2F 2-10-12 DOGENZAKA\, SHIBUYA-KU\,Shibuya
SUMMARY:Todd Terje
URL:https://www.tokyogigguide.com/index.php?option=com_jem&view=event&id=22
 967:todd-terje&Itemid=1094
END:VEVENT
END:VCALENDAR
