BEGIN:VCALENDAR
VERSION:2.0
PRODID:-//104.152.168.27//NONSGML kigkonsult.se iCalcreator 2.20//
CALSCALE:GREGORIAN
METHOD:PUBLISH
X-WR-TIMEZONE:Asia/Tokyo
BEGIN:VEVENT
UID:event22924@Tokyo Gig Guide
DTSTAMP:20260421T060400Z
CATEGORIES:Improvised
DESCRIPTION:Yasumune Morishige solo (cello\, piano\, vocal)\nCategory: Impr
 ovised\nLink: https://www.tokyogigguide.com/index.php?option=com_jem&view=
 event&id=22924:yasumune-morishige-solo-cello-piano-vocal&Itemid=1094\n
DTSTART:20191020T140000
DTEND:20191020T140000
LOCATION:Casa Mozart\,3rd Floor\, 1-10-23 Jingumae Shibuya-ku\, Tokyo\,Hara
 juku
SUMMARY:Yasumune Morishige solo (cello\, piano\, vocal)
URL:https://www.tokyogigguide.com/index.php?option=com_jem&view=event&id=22
 924:yasumune-morishige-solo-cello-piano-vocal&Itemid=1094
END:VEVENT
END:VCALENDAR
