BEGIN:VCALENDAR
VERSION:2.0
PRODID:-//104.152.168.27//NONSGML kigkonsult.se iCalcreator 2.20//
CALSCALE:GREGORIAN
METHOD:PUBLISH
X-WR-TIMEZONE:Asia/Tokyo
BEGIN:VEVENT
UID:event22868@Tokyo Gig Guide
DTSTAMP:20260421T093632Z
CATEGORIES:Avant garde\, Progressive\, Psychedelic
DESCRIPTION:Tokyo Nammy\, Natsuki Kido\, Takeharu Hayakawa\, Tatsuo Kondo\,
  Eiji Tanaka\, Yuki Saga\, Mikako Mihashi\nCategory: Avant garde\, Progres
 sive\, Psychedelic\nLink: https://www.tokyogigguide.com/index.php?option=c
 om_jem&view=event&id=22868:tokyo-nammy-natsuki-kido-takeharu-hayakawa-tats
 uo-kondo-eiji-tanaka-yuki-saga-mikako-mihashi&Itemid=1094\n
DTSTART:20190801T190000
DTEND:20190801T190000
LOCATION:Silver Elephant\,2-10-6 B1\, Kichijoji Honmachi\,Kichijoji
SUMMARY:Tokyo Nammy\, Natsuki Kido\, Takeharu Hayakawa\, Tatsuo Kondo\, Eij
 i Tanaka\, Yuki Saga\, Mikako Mihashi
URL:https://www.tokyogigguide.com/index.php?option=com_jem&view=event&id=22
 868:tokyo-nammy-natsuki-kido-takeharu-hayakawa-tatsuo-kondo-eiji-tanaka-yu
 ki-saga-mikako-mihashi&Itemid=1094
END:VEVENT
END:VCALENDAR
