BEGIN:VCALENDAR
VERSION:2.0
PRODID:-//104.152.168.27//NONSGML kigkonsult.se iCalcreator 2.20//
CALSCALE:GREGORIAN
METHOD:PUBLISH
X-WR-TIMEZONE:Asia/Tokyo
BEGIN:VEVENT
UID:event2278@Tokyo Gig Guide
DTSTAMP:20260422T152849Z
CATEGORIES:Mixed Genre
DESCRIPTION:Candles\, N'toko\, Back in Tokio\, DJ Takashi Nakayama + more\n
 Category: Mixed Genre\nLink: https://www.tokyogigguide.com/index.php?optio
 n=com_jem&view=event&id=2278:candles-ntoko-back-in-tokio-dj-takashi-nakaya
 ma--more&Itemid=1094\n
DTSTART:20100116T180000
DTEND:20100116T180000
LOCATION:Knock (Koenji)\,Koenji Minami 3-48-6  B1F\,Koenji
SUMMARY:Candles\, N'toko\, Back in Tokio\, DJ Takashi Nakayama + more
URL:https://www.tokyogigguide.com/index.php?option=com_jem&view=event&id=22
 78:candles-ntoko-back-in-tokio-dj-takashi-nakayama--more&Itemid=1094
END:VEVENT
END:VCALENDAR
