BEGIN:VCALENDAR
VERSION:2.0
PRODID:-//104.152.168.27//NONSGML kigkonsult.se iCalcreator 2.20//
CALSCALE:GREGORIAN
METHOD:PUBLISH
X-WR-TIMEZONE:Asia/Tokyo
BEGIN:VEVENT
UID:event22722@Tokyo Gig Guide
DTSTAMP:20260424T101920Z
CATEGORIES:Avant garde\, Experimental\, Free Jazz\, Improvised\, Jam
DESCRIPTION:Cafe52 Free Improv Jam Session\nCategory: Avant garde\, Experim
 ental\, Free Jazz\, Improvised\, Jam\nLink: https://www.tokyogigguide.com/
 index.php?option=com_jem&view=event&id=22722:cafe52-free-improv-jam-sessio
 n&Itemid=1094\n
DTSTART:20190627T193000
DTEND:20190627T193000
LOCATION:Cafe 52\,Toyotamakita 6-14-3\, Nerima-ku\,Nerima
SUMMARY:Cafe52 Free Improv Jam Session
URL:https://www.tokyogigguide.com/index.php?option=com_jem&view=event&id=22
 722:cafe52-free-improv-jam-session&Itemid=1094
END:VEVENT
END:VCALENDAR
