BEGIN:VCALENDAR
VERSION:2.0
PRODID:-//104.152.168.27//NONSGML kigkonsult.se iCalcreator 2.20//
CALSCALE:GREGORIAN
METHOD:PUBLISH
X-WR-TIMEZONE:Asia/Tokyo
BEGIN:VEVENT
UID:event22640@Tokyo Gig Guide
DTSTAMP:20260422T151036Z
CATEGORIES:Avant garde\, Experimental\, Film\, Improvised\, Minimal
DESCRIPTION:Mikio Yamazaki 8mm Film Works Screening with live music by Yumi
 ko Yoshimoto & Chiho Suzuki\nCategory: Avant garde\, Experimental\, Film\,
  Improvised\, Minimal\nLink: https://www.tokyogigguide.com/index.php?optio
 n=com_jem&view=event&id=22640:mikio-yamazaki-8mm-film-works-screening-with
 -live-music-by-yumiko-yoshimoto-chiho-suzuki&Itemid=1094\n
DTSTART:20190705T190000
DTEND:20190705T190000
LOCATION:Giee\,Sanko Bldg. Ba\, 2-3-9 Honmachi\, Kokubunji\, Tokyo\,Kokubun
 ji
SUMMARY:Mikio Yamazaki 8mm Film Works Screening with live music by Yumiko Y
 oshimoto & Chiho Suzuki
URL:https://www.tokyogigguide.com/index.php?option=com_jem&view=event&id=22
 640:mikio-yamazaki-8mm-film-works-screening-with-live-music-by-yumiko-yosh
 imoto-chiho-suzuki&Itemid=1094
END:VEVENT
END:VCALENDAR
