BEGIN:VCALENDAR
VERSION:2.0
PRODID:-//104.152.168.27//NONSGML kigkonsult.se iCalcreator 2.20//
CALSCALE:GREGORIAN
METHOD:PUBLISH
X-WR-TIMEZONE:Asia/Tokyo
BEGIN:VEVENT
UID:event22343@Tokyo Gig Guide
DTSTAMP:20260419T192257Z
CATEGORIES:Acoustic\, Free Jazz\, Improvised\, Jazz
DESCRIPTION:Takashi Seo (b)\, Nobumasa Tanaka (pf)\, Kei Matsumaru (sax)\nC
 ategory: Acoustic\, Free Jazz\, Improvised\, Jazz\nLink: https://www.tokyo
 gigguide.com/index.php?option=com_jem&view=event&id=22343:takashi-seo-b-no
 bumasa-tanaka-pf-kei-matsumaru-sax&Itemid=1094\n
DTSTART:20190601T193000
DTEND:20190601T193000
LOCATION:Sweet Rain\,Okada Bldg. B1\, 5-46-5　Nakano\, Nakano-ku\, Tokyo\,Na
 kano
SUMMARY:Takashi Seo (b)\, Nobumasa Tanaka (pf)\, Kei Matsumaru (sax)
URL:https://www.tokyogigguide.com/index.php?option=com_jem&view=event&id=22
 343:takashi-seo-b-nobumasa-tanaka-pf-kei-matsumaru-sax&Itemid=1094
END:VEVENT
END:VCALENDAR
