BEGIN:VCALENDAR
VERSION:2.0
PRODID:-//104.152.168.27//NONSGML kigkonsult.se iCalcreator 2.20//
CALSCALE:GREGORIAN
METHOD:PUBLISH
X-WR-TIMEZONE:Asia/Tokyo
BEGIN:VEVENT
UID:event22242@Tokyo Gig Guide
DTSTAMP:20260423T150913Z
CATEGORIES:Electronic
DESCRIPTION:Ellen Allien\, Kana Mechaniker\, PUNKADELIX\, DJ WADA\, Kenji T
 akimi\, more\nCategory: Electronic\nLink: https://www.tokyogigguide.com/in
 dex.php?option=com_jem&view=event&id=22242:ellen-allien-kana-mechaniker-pu
 nkadelix-dj-wada-kenji-takimi-more&Itemid=1094\n
DTSTART:20190511T220000
DTEND:20190511T220000
LOCATION:Contact\,B2F 2-10-12 DOGENZAKA\, SHIBUYA-KU\,Shibuya
SUMMARY:Ellen Allien\, Kana Mechaniker\, PUNKADELIX\, DJ WADA\, Kenji Takim
 i\, more
URL:https://www.tokyogigguide.com/index.php?option=com_jem&view=event&id=22
 242:ellen-allien-kana-mechaniker-punkadelix-dj-wada-kenji-takimi-more&Item
 id=1094
END:VEVENT
END:VCALENDAR
