BEGIN:VCALENDAR
VERSION:2.0
PRODID:-//104.152.168.27//NONSGML kigkonsult.se iCalcreator 2.20//
CALSCALE:GREGORIAN
METHOD:PUBLISH
X-WR-TIMEZONE:Asia/Tokyo
BEGIN:VEVENT
UID:event22089@Tokyo Gig Guide
DTSTAMP:20260423T032236Z
CATEGORIES:Acoustic\, Chanson\, Instrumental\, Performance\, World
DESCRIPTION:Tango Argentino\nCategory: Acoustic\, Chanson\, Instrumental\, 
 Performance\, World\nLink: https://www.tokyogigguide.com/index.php?option=
 com_jem&view=event&id=22089:tango-argentino&Itemid=1094\n
DTSTART:20190426T183000
DTEND:20190426T183000
LOCATION:All in Fun\,3-51-8 Minami-Otsuka\, Toshima-ku\, Tokyo\,Otsuka
SUMMARY:Tango Argentino
URL:https://www.tokyogigguide.com/index.php?option=com_jem&view=event&id=22
 089:tango-argentino&Itemid=1094
END:VEVENT
END:VCALENDAR
