BEGIN:VCALENDAR
VERSION:2.0
PRODID:-//104.152.168.27//NONSGML kigkonsult.se iCalcreator 2.20//
CALSCALE:GREGORIAN
METHOD:PUBLISH
X-WR-TIMEZONE:Asia/Tokyo
BEGIN:VEVENT
UID:event22042@Tokyo Gig Guide
DTSTAMP:20260419T204027Z
CATEGORIES:Electro\, House\, Party
DESCRIPTION:RED BULL MUSIC FESTIVAL TOKYO X FANCYHIM SHIBUYA TAKEOVER\nCate
 gory: Electro\, House\, Party\nLink: https://www.tokyogigguide.com/index.p
 hp?option=com_jem&view=event&id=22042:red-bull-music-festival-tokyo-x-fanc
 yhim-shibuya-takeover&Itemid=1094\n
DTSTART:20190412T220000
DTEND:20190412T220000
LOCATION:Contact\,B2F 2-10-12 DOGENZAKA\, SHIBUYA-KU\,Shibuya
SUMMARY:RED BULL MUSIC FESTIVAL TOKYO X FANCYHIM SHIBUYA TAKEOVER
URL:https://www.tokyogigguide.com/index.php?option=com_jem&view=event&id=22
 042:red-bull-music-festival-tokyo-x-fancyhim-shibuya-takeover&Itemid=1094
END:VEVENT
END:VCALENDAR
