BEGIN:VCALENDAR
VERSION:2.0
PRODID:-//104.152.168.27//NONSGML kigkonsult.se iCalcreator 2.20//
CALSCALE:GREGORIAN
METHOD:PUBLISH
X-WR-TIMEZONE:Asia/Tokyo
BEGIN:VEVENT
UID:event22037@Tokyo Gig Guide
DTSTAMP:20260419T131816Z
CATEGORIES:Electro-Pop\, Festival\, Post-Rock\, Progressive\, Rock
DESCRIPTION:ProgTokyo 2019 Spring: SuperString\, macofei\, Allan Chan Band 
 (Kari)\nCategory: Electro-Pop\, Festival\, Post-Rock\, Progressive\, Rock
 \nLink: https://www.tokyogigguide.com/index.php?option=com_jem&view=event&
 id=22037:progtokyo-2019-spring-superstring-macofei-allan-chan-band-kari&It
 emid=1094\n
DTSTART:20190428T170000
DTEND:20190428T170000
LOCATION:Silver Elephant\,2-10-6 B1\, Kichijoji Honmachi\,Kichijoji
SUMMARY:ProgTokyo 2019 Spring: SuperString\, macofei\, Allan Chan Band (Kar
 i)
URL:https://www.tokyogigguide.com/index.php?option=com_jem&view=event&id=22
 037:progtokyo-2019-spring-superstring-macofei-allan-chan-band-kari&Itemid=
 1094
END:VEVENT
END:VCALENDAR
