BEGIN:VCALENDAR
VERSION:2.0
PRODID:-//104.152.168.27//NONSGML kigkonsult.se iCalcreator 2.20//
CALSCALE:GREGORIAN
METHOD:PUBLISH
X-WR-TIMEZONE:Asia/Tokyo
BEGIN:VEVENT
UID:event22035@Tokyo Gig Guide
DTSTAMP:20260425T185549Z
CATEGORIES:Alternative\, Festival\, Progressive\, World\, Rock
DESCRIPTION:ProgTokyo 2019 Spring: Les animaux\, taika\, Shingetsu Project
 \nCategory: Alternative\, Festival\, Progressive\, World\, Rock\nLink: htt
 ps://www.tokyogigguide.com/index.php?option=com_jem&view=event&id=22035:pr
 ogtokyo-2019-spring-les-animaux-taika-shingetsu-project&Itemid=1094\n
DTSTART:20190426T180000
DTEND:20190426T180000
LOCATION:Silver Elephant\,2-10-6 B1\, Kichijoji Honmachi\,Kichijoji
SUMMARY:ProgTokyo 2019 Spring: Les animaux\, taika\, Shingetsu Project
URL:https://www.tokyogigguide.com/index.php?option=com_jem&view=event&id=22
 035:progtokyo-2019-spring-les-animaux-taika-shingetsu-project&Itemid=1094
END:VEVENT
END:VCALENDAR
