BEGIN:VCALENDAR
VERSION:2.0
PRODID:-//104.152.168.27//NONSGML kigkonsult.se iCalcreator 2.20//
CALSCALE:GREGORIAN
METHOD:PUBLISH
X-WR-TIMEZONE:Asia/Tokyo
BEGIN:VEVENT
UID:event22034@Tokyo Gig Guide
DTSTAMP:20260421T075626Z
CATEGORIES:Alternative\, Festival\, Jazz\, Progressive\, Rock
DESCRIPTION:ProgTokyo 2019 Spring: Ushiromaesakasazoku\, ptf\, Trussonic 〜t
 owa kitagawa trio〜\nCategory: Alternative\, Festival\, Jazz\, Progressive\
 , Rock\nLink: https://www.tokyogigguide.com/index.php?option=com_jem&view=
 event&id=22034:progtokyo-2019-spring-ushiromaesakasazoku-ptf-trussonic-tow
 a-kitagawa-trio&Itemid=1094\n
DTSTART:20190421T170000
DTEND:20190421T170000
LOCATION:Silver Elephant\,2-10-6 B1\, Kichijoji Honmachi\,Kichijoji
SUMMARY:ProgTokyo 2019 Spring: Ushiromaesakasazoku\, ptf\, Trussonic 〜towa 
 kitagawa trio〜
URL:https://www.tokyogigguide.com/index.php?option=com_jem&view=event&id=22
 034:progtokyo-2019-spring-ushiromaesakasazoku-ptf-trussonic-towa-kitagawa-
 trio&Itemid=1094
END:VEVENT
END:VCALENDAR
