BEGIN:VCALENDAR
VERSION:2.0
PRODID:-//104.152.168.27//NONSGML kigkonsult.se iCalcreator 2.20//
CALSCALE:GREGORIAN
METHOD:PUBLISH
X-WR-TIMEZONE:Asia/Tokyo
BEGIN:VEVENT
UID:event21723@Tokyo Gig Guide
DTSTAMP:20260425T233418Z
CATEGORIES:Blues\, Instrumental\, Jazz\, Rock
DESCRIPTION:Natsuki Kido\, Kenichiro Shinzawa\, Kiichiro Komobuchi\, Hideno
 bu Ohtsuki\nCategory: Blues\, Instrumental\, Jazz\, Rock\nLink: https://ww
 w.tokyogigguide.com/index.php?option=com_jem&view=event&id=21723:ics-natsu
 ki-kido-kenichiro-shinzawa-kiichiro-komobuchi-hidenobu-ohtsuki&Itemid=1094
 \n
DTSTART:20190319T190000
DTEND:20190319T190000
LOCATION:Rooster\,Inoue Bldg B1\, Ogikubo 5-16-15\, Suginami-ku\,Ogikubo
SUMMARY:Natsuki Kido\, Kenichiro Shinzawa\, Kiichiro Komobuchi\, Hidenobu O
 htsuki
URL:https://www.tokyogigguide.com/index.php?option=com_jem&view=event&id=21
 723:ics-natsuki-kido-kenichiro-shinzawa-kiichiro-komobuchi-hidenobu-ohtsuk
 i&Itemid=1094
END:VEVENT
END:VCALENDAR
