BEGIN:VCALENDAR
VERSION:2.0
PRODID:-//104.152.168.27//NONSGML kigkonsult.se iCalcreator 2.20//
CALSCALE:GREGORIAN
METHOD:PUBLISH
X-WR-TIMEZONE:Asia/Tokyo
BEGIN:VEVENT
UID:event2159@Tokyo Gig Guide
DTSTAMP:20260422T074341Z
CATEGORIES:Indie-Rock
DESCRIPTION:Sunset Drive\, The Watanabes\nCategory: Indie-Rock\nLink: https
 ://www.tokyogigguide.com/index.php?option=com_jem&view=event&id=2159:sunse
 t-drive-and-the-watanabes-christmas-party&Itemid=1094\n
DTSTART:20091226T200000
DTEND:20091226T200000
LOCATION:Ruby Room\,2F Kasumi Bldg\, Dogenzaka 2-25-17\, Shibuya\,Shibuya
SUMMARY:Sunset Drive\, The Watanabes
URL:https://www.tokyogigguide.com/index.php?option=com_jem&view=event&id=21
 59:sunset-drive-and-the-watanabes-christmas-party&Itemid=1094
END:VEVENT
END:VCALENDAR
