BEGIN:VCALENDAR
VERSION:2.0
PRODID:-//104.152.168.27//NONSGML kigkonsult.se iCalcreator 2.20//
CALSCALE:GREGORIAN
METHOD:PUBLISH
X-WR-TIMEZONE:Asia/Tokyo
BEGIN:VEVENT
UID:event21392@Tokyo Gig Guide
DTSTAMP:20260425T115208Z
CATEGORIES:Mixed Genre
DESCRIPTION:Naoki Kita\, Keiki Midorikawa\, Miyama McQueen-Tokita\nCategory
 : Mixed Genre\nLink: https://www.tokyogigguide.com/index.php?option=com_je
 m&view=event&id=21392:violin-naoki-kita-cello-keiki-midorikawa-koto-miyama
 -mcqueen-tokita&Itemid=1094\n
DTSTART:20190105T180000
DTEND:20190105T180000
LOCATION:In-F\,3F 3-4-19 higashiooizumi\, nerima-ku\, Tokyo\,Oizumigakuen
SUMMARY:Naoki Kita\, Keiki Midorikawa\, Miyama McQueen-Tokita
URL:https://www.tokyogigguide.com/index.php?option=com_jem&view=event&id=21
 392:violin-naoki-kita-cello-keiki-midorikawa-koto-miyama-mcqueen-tokita&It
 emid=1094
END:VEVENT
END:VCALENDAR
