BEGIN:VCALENDAR
VERSION:2.0
PRODID:-//104.152.168.27//NONSGML kigkonsult.se iCalcreator 2.20//
CALSCALE:GREGORIAN
METHOD:PUBLISH
X-WR-TIMEZONE:Asia/Tokyo
BEGIN:VEVENT
UID:event21375@Tokyo Gig Guide
DTSTAMP:20260426T041721Z
CATEGORIES:Acoustic\, Progressive\, Psychedelic\, World
DESCRIPTION:Ayuo Workshop of Open Tuning and Alternate Tuning Guitar and so
 ngs in English\nCategory: Acoustic\, Progressive\, Psychedelic\, World\nLi
 nk: https://www.tokyogigguide.com/index.php?option=com_jem&view=event&id=2
 1375:ayuo-workshop-of-open-tuning-and-alternate-tuning-guitar-and-songs-in
 -english&Itemid=1094\n
DTSTART:20190108T200000
DTEND:20190108T200000
LOCATION:Casa Mozart\,3rd Floor\, 1-10-23 Jingumae Shibuya-ku\, Tokyo\,Hara
 juku
SUMMARY:Ayuo Workshop of Open Tuning and Alternate Tuning Guitar and songs 
 in English
URL:https://www.tokyogigguide.com/index.php?option=com_jem&view=event&id=21
 375:ayuo-workshop-of-open-tuning-and-alternate-tuning-guitar-and-songs-in-
 english&Itemid=1094
END:VEVENT
END:VCALENDAR
