BEGIN:VCALENDAR
VERSION:2.0
PRODID:-//104.152.168.27//NONSGML kigkonsult.se iCalcreator 2.20//
CALSCALE:GREGORIAN
METHOD:PUBLISH
X-WR-TIMEZONE:Asia/Tokyo
BEGIN:VEVENT
UID:event20974@Tokyo Gig Guide
DTSTAMP:20260422T055752Z
CATEGORIES:Avant garde\, Experimental\, Film\, Improvised
DESCRIPTION:Kanro (Mikio Yamazaki movie)\, Yumiko Yoshimoto & Chizuru Nashi
 ki duo (mini live)\nCategory: Avant garde\, Experimental\, Film\, Improvis
 ed\nLink: https://www.tokyogigguide.com/index.php?option=com_jem&view=even
 t&id=20974:mikio-yamazaki-movie-kanro-mini-live-by-yumiko-yoshimoto-g-daxo
 phone-chizuru-nashiki-tabla&Itemid=1094\n
DTSTART:20181202T190000
DTEND:20181202T190000
LOCATION:Giee\,Sanko Bldg. Ba\, 2-3-9 Honmachi\, Kokubunji\, Tokyo\,Kokubun
 ji
SUMMARY:Kanro (Mikio Yamazaki movie)\, Yumiko Yoshimoto & Chizuru Nashiki d
 uo (mini live)
URL:https://www.tokyogigguide.com/index.php?option=com_jem&view=event&id=20
 974:mikio-yamazaki-movie-kanro-mini-live-by-yumiko-yoshimoto-g-daxophone-c
 hizuru-nashiki-tabla&Itemid=1094
END:VEVENT
END:VCALENDAR
