BEGIN:VCALENDAR
VERSION:2.0
PRODID:-//104.152.168.27//NONSGML kigkonsult.se iCalcreator 2.20//
CALSCALE:GREGORIAN
METHOD:PUBLISH
X-WR-TIMEZONE:Asia/Tokyo
BEGIN:VEVENT
UID:event20660@Tokyo Gig Guide
DTSTAMP:20260422T234058Z
CATEGORIES:Jam\, Performance\, Unclassifiable\, Progressive\, Psychedelic
DESCRIPTION:Zacro Ⅱ\nCategory: Jam\, Performance\, Unclassifiable\, Progres
 sive\, Psychedelic\nLink: https://www.tokyogigguide.com/index.php?option=c
 om_jem&view=event&id=20660:zacro&Itemid=1094\n
DTSTART:20181019T190000
DTEND:20181019T190000
LOCATION:ZIMAGINE\,6-2-13-B1 Minami-Aoyama\, Minato-ku\, Tokyo\,Omotesando
SUMMARY:Zacro Ⅱ
URL:https://www.tokyogigguide.com/index.php?option=com_jem&view=event&id=20
 660:zacro&Itemid=1094
END:VEVENT
END:VCALENDAR
