BEGIN:VCALENDAR
VERSION:2.0
PRODID:-//104.152.168.27//NONSGML kigkonsult.se iCalcreator 2.20//
CALSCALE:GREGORIAN
METHOD:PUBLISH
X-WR-TIMEZONE:Asia/Tokyo
BEGIN:VEVENT
UID:event20632@Tokyo Gig Guide
DTSTAMP:20260421T112919Z
CATEGORIES:Death Metal\, Grindcore\, Hardcore\, Metal\, Punk
DESCRIPTION:Inhumate\, Teethgrinder\, Self Deconstruction\nCategory: Death 
 Metal\, Grindcore\, Hardcore\, Metal\, Punk\nLink: https://www.tokyogiggui
 de.com/index.php?option=com_jem&view=event&id=20632:inhumate-teethgrinder-
 self-deconstruction&Itemid=1094\n
DTSTART:20181023T190000
DTEND:20181023T190000
LOCATION:El Puente\,B1 8-8 Nishihiranumacho\, Nishi-ku\, Yokohama\,Yokohama
SUMMARY:Inhumate\, Teethgrinder\, Self Deconstruction
URL:https://www.tokyogigguide.com/index.php?option=com_jem&view=event&id=20
 632:inhumate-teethgrinder-self-deconstruction&Itemid=1094
END:VEVENT
END:VCALENDAR
