BEGIN:VCALENDAR
VERSION:2.0
PRODID:-//104.152.168.27//NONSGML kigkonsult.se iCalcreator 2.20//
CALSCALE:GREGORIAN
METHOD:PUBLISH
X-WR-TIMEZONE:Asia/Tokyo
BEGIN:VEVENT
UID:event20543@Tokyo Gig Guide
DTSTAMP:20260424T101715Z
CATEGORIES:Improvised\, Instrumental\, Jazz
DESCRIPTION:Takao Watanabe\, Natsuki Kido\, Takashi Seo\, Yoshihito Eto\nCa
 tegory: Improvised\, Instrumental\, Jazz\nLink: https://www.tokyogigguide.
 com/index.php?option=com_jem&view=event&id=20543:takao-watanabe-natsuki-ki
 do-takashi-seo-yoshihito-eto&Itemid=1094\n
DTSTART:20181001T183000
DTEND:20181001T183000
LOCATION:Dolphy\,2-17-4-2F Miyagawa-cho\, Naka-ku\, Yokohama\,Yokohama
SUMMARY:Takao Watanabe\, Natsuki Kido\, Takashi Seo\, Yoshihito Eto
URL:https://www.tokyogigguide.com/index.php?option=com_jem&view=event&id=20
 543:takao-watanabe-natsuki-kido-takashi-seo-yoshihito-eto&Itemid=1094
END:VEVENT
END:VCALENDAR
